BEGIN:VCALENDAR
VERSION:2.0
CALSCALE:GREGORIAN
PRODID:adamgibbons/ics
METHOD:PUBLISH
X-PUBLISHED-TTL:PT1H
BEGIN:VEVENT
UID:2275@calendar.clonmel.town
SUMMARY:When Next We Meet
DTSTAMP:20260419T225007Z
DTSTART:20260529T130000Z
DTEND:20260531T225900Z
URL:https://calendar.clonmel.town/event/when-next-we-meet
GEO:52.3508231;-7.6962827
LOCATION:Raheen House Hotel - Raheen Road
STATUS:CONFIRMED
CATEGORIES:Favourite,Fee paid,Live Music,Upcoming
END:VEVENT
BEGIN:VEVENT
UID:2150@calendar.clonmel.town
SUMMARY:Clonmel Rock Camp 2026
DTSTAMP:20260419T225007Z
DTSTART:20260701T090000Z
DTEND:20260704T225900Z
URL:https://calendar.clonmel.town/event/clonmel-rock-camp-2026
GEO:52.3536374;-7.6956334
LOCATION:CTI The Mall - Davis Road
STATUS:CONFIRMED
CATEGORIES:Workshop,Favourite,Booking required,Fee paid,Upcoming
END:VEVENT
BEGIN:VEVENT
UID:2265@calendar.clonmel.town
SUMMARY:Trad Camp 2026
DTSTAMP:20260419T225007Z
DTSTART:20260701T090000Z
DTEND:20260704T225900Z
URL:https://calendar.clonmel.town/event/trad-camp-2026
GEO:52.3536374;-7.6956334
LOCATION:CTI The Mall - Davis Road
STATUS:CONFIRMED
CATEGORIES:Booking required,Favourite,Upcoming,Workshop,Fee paid
END:VEVENT
BEGIN:VEVENT
UID:2361@calendar.clonmel.town
SUMMARY:Clonmel Junction Arts Festival
DTSTAMP:20260419T225007Z
DTSTART:20260703T090000Z
DTEND:20260712T225900Z
URL:https://calendar.clonmel.town/event/clonmel-junction-arts-festival
LOCATION:Locations around Clonmel - Clonmel
STATUS:CONFIRMED
CATEGORIES:Junction Festival,Favourite,Live Music,Upcoming,Visual arts
END:VEVENT
BEGIN:VEVENT
UID:2388@calendar.clonmel.town
SUMMARY:Chicken Stock 2026 Warm-Up
DTSTAMP:20260419T225007Z
DTSTART:20260724T190000Z
URL:https://calendar.clonmel.town/event/chicken-stock-2026-warm-up
GEO:52.3613933;-7.6988515
LOCATION:Railway Bar - Railway Station Road\, Clonmel
STATUS:CONFIRMED
CATEGORIES:Live Music,Fee paid,Upcoming,Favourite
END:VEVENT
BEGIN:VEVENT
UID:2386@calendar.clonmel.town
SUMMARY:Chicken Stock 2026
DTSTAMP:20260419T225007Z
DTSTART:20260725T130000Z
URL:https://calendar.clonmel.town/event/chicken-stock-2026
GEO:52.3613933;-7.6988515
LOCATION:Railway Bar - Railway Station Road\, Clonmel
STATUS:CONFIRMED
CATEGORIES:Live Music,Favourite,Fee paid,Upcoming
END:VEVENT
BEGIN:VEVENT
UID:2359@calendar.clonmel.town
SUMMARY:Clonmel Busking Festival
DTSTAMP:20260419T225007Z
DTSTART:20260807T090000Z
DTEND:20260809T225900Z
URL:https://calendar.clonmel.town/event/clonmel-busking-festival
LOCATION:Locations around Clonmel - Clonmel
STATUS:CONFIRMED
CATEGORIES:Favourite,Upcoming,Live Music
END:VEVENT
END:VCALENDAR
