BEGIN:VCALENDAR
VERSION:2.0
CALSCALE:GREGORIAN
PRODID:adamgibbons/ics
METHOD:PUBLISH
X-PUBLISHED-TTL:PT1H
BEGIN:VEVENT
UID:2118@calendar.clonmel.town
SUMMARY:Toy Library
DTSTAMP:20260419T211458Z
DTSTART:20260422T133000Z
DTEND:20260422T150000Z
URL:https://calendar.clonmel.town/event/toy-library-25
GEO:52.3517328;-7.7152932
LOCATION:The Circular Square - 80 Irishtown Upper
STATUS:CONFIRMED
CATEGORIES:Children,Sustainability
END:VEVENT
BEGIN:VEVENT
UID:2208@calendar.clonmel.town
SUMMARY:Improvers Sewing Machine Skills
DTSTAMP:20260419T211458Z
DTSTART:20260422T180000Z
DTEND:20260422T200000Z
URL:https://calendar.clonmel.town/event/improvers-sewing-machine-skills-1
GEO:52.3517328;-7.7152932
LOCATION:The Circular Square - 80 Irishtown Upper
STATUS:CONFIRMED
CATEGORIES:Crafts,Booking required,Sustainability,Workshop
END:VEVENT
BEGIN:VEVENT
UID:2172@calendar.clonmel.town
SUMMARY:Repair Café
DTSTAMP:20260419T211458Z
DTSTART:20260425T103000Z
DTEND:20260425T123000Z
URL:https://calendar.clonmel.town/event/repair-cafe-8
GEO:52.3517328;-7.7152932
LOCATION:The Circular Square - 80 Irishtown Upper
STATUS:CONFIRMED
CATEGORIES:Sustainability
END:VEVENT
BEGIN:VEVENT
UID:2174@calendar.clonmel.town
SUMMARY:Toy Library
DTSTAMP:20260419T211458Z
DTSTART:20260425T103000Z
DTEND:20260425T123000Z
URL:https://calendar.clonmel.town/event/toy-library-26
GEO:52.3517328;-7.7152932
LOCATION:The Circular Square - 80 Irishtown Upper
STATUS:CONFIRMED
CATEGORIES:Children,Sustainability
END:VEVENT
BEGIN:VEVENT
UID:2295@calendar.clonmel.town
SUMMARY:Toy Library
DTSTAMP:20260419T211458Z
DTSTART:20260513T133000Z
DTEND:20260513T150000Z
URL:https://calendar.clonmel.town/event/toy-library-27
GEO:52.3517328;-7.7152932
LOCATION:The Circular Square - 80 Irishtown Upper
STATUS:CONFIRMED
CATEGORIES:Children,Sustainability
END:VEVENT
BEGIN:VEVENT
UID:2306@calendar.clonmel.town
SUMMARY:Monthly Repair Club
DTSTAMP:20260419T211458Z
DTSTART:20260514T163000Z
DTEND:20260514T183000Z
URL:https://calendar.clonmel.town/event/monthly-repair-club-9
GEO:52.3517328;-7.7152932
LOCATION:The Circular Square - 80 Irishtown Upper
STATUS:CONFIRMED
CATEGORIES:Sustainability
END:VEVENT
END:VCALENDAR
