BEGIN:VCALENDAR
VERSION:2.0
CALSCALE:GREGORIAN
PRODID:adamgibbons/ics
METHOD:PUBLISH
X-PUBLISHED-TTL:PT1H
BEGIN:VEVENT
UID:2321@calendar.clonmel.town
SUMMARY:Songo Music Bingo
DTSTAMP:20260424T085414Z
DTSTART:20260424T183000Z
URL:https://calendar.clonmel.town/event/songo-music-bingo
GEO:52.3535159;-7.7015984
LOCATION:Mulcahy's - 47 Gladstone Street
STATUS:CONFIRMED
CATEGORIES:Fee paid,Booking required,Solidarity
END:VEVENT
BEGIN:VEVENT
UID:2151@calendar.clonmel.town
SUMMARY:Table Quiz
DTSTAMP:20260424T085414Z
DTSTART:20260424T190000Z
URL:https://calendar.clonmel.town/event/table-quiz-2
GEO:52.3581089;-7.6977168
LOCATION:Shenanigans - Thomas Street\, Clonmel
STATUS:CONFIRMED
CATEGORIES:Fee paid,Solidarity
END:VEVENT
BEGIN:VEVENT
UID:2404@calendar.clonmel.town
SUMMARY:Solidarity with Palestine
DTSTAMP:20260424T085414Z
DTSTART:20260425T130000Z
URL:https://calendar.clonmel.town/event/solidarity-with-palestine-34
GEO:52.3529774;-7.7013943
LOCATION:Main Guard - Mitchel Street
STATUS:CONFIRMED
CATEGORIES:Solidarity
END:VEVENT
BEGIN:VEVENT
UID:2363@calendar.clonmel.town
SUMMARY:Vintage Tea Morning
DTSTAMP:20260424T085414Z
DTSTART:20260507T090000Z
DTEND:20260507T113000Z
URL:https://calendar.clonmel.town/event/vintage-tea-morning-1
GEO:52.3549506;-7.7026152
LOCATION:Place4U - Morton Street
STATUS:CONFIRMED
CATEGORIES:Solidarity
END:VEVENT
BEGIN:VEVENT
UID:2364@calendar.clonmel.town
SUMMARY:Darkness Into Light
DTSTAMP:20260424T085414Z
DTSTART:20260509T031500Z
URL:https://calendar.clonmel.town/event/darkness-into-light
GEO:52.3624261;-7.7050618
LOCATION:Clonmel Og GAA Club - Frank Drohan Road\, Clonmel
STATUS:CONFIRMED
CATEGORIES:Solidarity
END:VEVENT
END:VCALENDAR
