BEGIN:VCALENDAR
VERSION:2.0
CALSCALE:GREGORIAN
PRODID:adamgibbons/ics
METHOD:PUBLISH
X-PUBLISHED-TTL:PT1H
BEGIN:VEVENT
UID:2226@calendar.clonmel.town
SUMMARY:Creative Writing Group
DTSTAMP:20260419T205802Z
DTSTART:20260506T093000Z
URL:https://calendar.clonmel.town/event/creative-writing-group-8
GEO:52.3550583;-7.6993383
LOCATION:Clonmel Library - Emmet Street
STATUS:CONFIRMED
CATEGORIES:Literature
END:VEVENT
BEGIN:VEVENT
UID:2372@calendar.clonmel.town
SUMMARY:Creative Writing Group
DTSTAMP:20260419T205802Z
DTSTART:20260520T093000Z
URL:https://calendar.clonmel.town/event/creative-writing-group-9
GEO:52.3550583;-7.6993383
LOCATION:Clonmel Library - Emmet Street
STATUS:CONFIRMED
CATEGORIES:Literature
END:VEVENT
BEGIN:VEVENT
UID:1654@calendar.clonmel.town
SUMMARY:Tipperariana
DTSTAMP:20260419T205802Z
DTSTART:20270214T120000Z
DTEND:20270214T163000Z
URL:https://calendar.clonmel.town/event/tipperariana-2
GEO:52.4653224;-7.6990281
LOCATION:Fethard Ballroom - Kerry Street\, Fethard
STATUS:CONFIRMED
CATEGORIES:Fee paid,Literature,Market
END:VEVENT
END:VCALENDAR
