BEGIN:VCALENDAR
VERSION:2.0
CALSCALE:GREGORIAN
PRODID:adamgibbons/ics
METHOD:PUBLISH
X-PUBLISHED-TTL:PT1H
BEGIN:VEVENT
UID:2241@calendar.clonmel.town
SUMMARY:Ciorcal Comhrá
DTSTAMP:20260419T225337Z
DTSTART:20260507T101500Z
URL:https://calendar.clonmel.town/event/ciorcal-comhra-18
GEO:52.3550583;-7.6993383
LOCATION:Clonmel Library - Emmet Street
STATUS:CONFIRMED
CATEGORIES:Language
END:VEVENT
BEGIN:VEVENT
UID:2384@calendar.clonmel.town
SUMMARY:Ciorcal Comhrá
DTSTAMP:20260419T225337Z
DTSTART:20260521T101500Z
URL:https://calendar.clonmel.town/event/ciorcal-comhra-19
GEO:52.3550583;-7.6993383
LOCATION:Clonmel Library - Emmet Street
STATUS:CONFIRMED
CATEGORIES:Language
END:VEVENT
END:VCALENDAR
