BEGIN:VCALENDAR
VERSION:2.0
CALSCALE:GREGORIAN
PRODID:adamgibbons/ics
METHOD:PUBLISH
X-PUBLISHED-TTL:PT1H
BEGIN:VEVENT
UID:2354@calendar.clonmel.town
SUMMARY:Ballroom Dancing Classes
DTSTAMP:20260420T031748Z
DTSTART:20260420T190000Z
URL:https://calendar.clonmel.town/event/ballroom-dancing-classes-11
GEO:52.4653224;-7.6990281
LOCATION:Fethard Ballroom - Kerry Street\, Fethard
STATUS:CONFIRMED
CATEGORIES:Dance,Class,Fee paid
END:VEVENT
BEGIN:VEVENT
UID:2371@calendar.clonmel.town
SUMMARY:Bachata Dance
DTSTAMP:20260420T031748Z
DTSTART:20260421T191500Z
URL:https://calendar.clonmel.town/event/bachata-dance-30
GEO:52.3536113;-7.6979753
LOCATION:The Coachman - 13-14 Parnell Street
STATUS:CONFIRMED
CATEGORIES:Dance,Class
END:VEVENT
BEGIN:VEVENT
UID:2373@calendar.clonmel.town
SUMMARY:Dance with Gina
DTSTAMP:20260420T031748Z
DTSTART:20260422T180000Z
URL:https://calendar.clonmel.town/event/dance-with-gina-3
GEO:52.3536113;-7.6979753
LOCATION:The Coachman - 13-14 Parnell Street
STATUS:CONFIRMED
CATEGORIES:Dance,Fee paid,Class
END:VEVENT
BEGIN:VEVENT
UID:2375@calendar.clonmel.town
SUMMARY:Set Dancing Class
DTSTAMP:20260420T031748Z
DTSTART:20260422T181500Z
URL:https://calendar.clonmel.town/event/set-dancing-class-29
GEO:52.412811;-7.757627
LOCATION:Clerihan Community Hall - Cahir Road\, Clerihan
STATUS:CONFIRMED
CATEGORIES:Dance,Fee paid,Class
END:VEVENT
BEGIN:VEVENT
UID:2377@calendar.clonmel.town
SUMMARY:Salsa Cubana
DTSTAMP:20260420T031748Z
DTSTART:20260422T190000Z
URL:https://calendar.clonmel.town/event/salsa-cubana-28
GEO:52.3536113;-7.6979753
LOCATION:The Coachman - 13-14 Parnell Street
STATUS:CONFIRMED
CATEGORIES:Class,Fee paid,Dance
END:VEVENT
BEGIN:VEVENT
UID:2395@calendar.clonmel.town
SUMMARY:Set Dance Class
DTSTAMP:20260420T031748Z
DTSTART:20260424T093000Z
URL:https://calendar.clonmel.town/event/set-dance-class-30
GEO:52.3603507;-7.7194507
LOCATION:St. Oliver's Parish Centre - Heywood Road
STATUS:CONFIRMED
CATEGORIES:Dance,Class,Fee paid
END:VEVENT
BEGIN:VEVENT
UID:2090@calendar.clonmel.town
SUMMARY:Social Dancing
DTSTAMP:20260420T031748Z
DTSTART:20260426T193000Z
URL:https://calendar.clonmel.town/event/social-dancing-14
GEO:52.4653224;-7.6990281
LOCATION:Fethard Ballroom - Kerry Street\, Fethard
STATUS:CONFIRMED
CATEGORIES:Dance,Fee paid,Live Music
END:VEVENT
BEGIN:VEVENT
UID:2215@calendar.clonmel.town
SUMMARY:Munster Ballroom Trophy
DTSTAMP:20260420T031748Z
DTSTART:20260502T190000Z
URL:https://calendar.clonmel.town/event/munster-ballroom-trophy
GEO:52.4653224;-7.6990281
LOCATION:Fethard Ballroom - Kerry Street\, Fethard
STATUS:CONFIRMED
CATEGORIES:Dance
END:VEVENT
BEGIN:VEVENT
UID:2342@calendar.clonmel.town
SUMMARY:Social Dancing
DTSTAMP:20260420T031748Z
DTSTART:20260503T193000Z
URL:https://calendar.clonmel.town/event/social-dancing-15
GEO:52.4653224;-7.6990281
LOCATION:Fethard Ballroom - Kerry Street\, Fethard
STATUS:CONFIRMED
CATEGORIES:Live Music,Dance,Fee paid
END:VEVENT
BEGIN:VEVENT
UID:2343@calendar.clonmel.town
SUMMARY:Social Dancing
DTSTAMP:20260420T031748Z
DTSTART:20260510T193000Z
URL:https://calendar.clonmel.town/event/social-dancing-16
GEO:52.4653224;-7.6990281
LOCATION:Fethard Ballroom - Kerry Street\, Fethard
STATUS:CONFIRMED
CATEGORIES:Live Music,Dance,Fee paid
END:VEVENT
BEGIN:VEVENT
UID:2344@calendar.clonmel.town
SUMMARY:Social Dancing
DTSTAMP:20260420T031748Z
DTSTART:20260517T193000Z
URL:https://calendar.clonmel.town/event/social-dancing-17
GEO:52.4653224;-7.6990281
LOCATION:Fethard Ballroom - Kerry Street\, Fethard
STATUS:CONFIRMED
CATEGORIES:Live Music,Dance,Fee paid
END:VEVENT
BEGIN:VEVENT
UID:2345@calendar.clonmel.town
SUMMARY:Social Dancing
DTSTAMP:20260420T031748Z
DTSTART:20260524T193000Z
URL:https://calendar.clonmel.town/event/social-dancing-18
GEO:52.4653224;-7.6990281
LOCATION:Fethard Ballroom - Kerry Street\, Fethard
STATUS:CONFIRMED
CATEGORIES:Dance,Fee paid,Live Music
END:VEVENT
BEGIN:VEVENT
UID:2346@calendar.clonmel.town
SUMMARY:Social Dancing
DTSTAMP:20260420T031748Z
DTSTART:20260531T193000Z
URL:https://calendar.clonmel.town/event/social-dancing-19
GEO:52.4653224;-7.6990281
LOCATION:Fethard Ballroom - Kerry Street\, Fethard
STATUS:CONFIRMED
CATEGORIES:Fee paid,Live Music,Dance
END:VEVENT
BEGIN:VEVENT
UID:2347@calendar.clonmel.town
SUMMARY:Social Dancing
DTSTAMP:20260420T031748Z
DTSTART:20260607T193000Z
URL:https://calendar.clonmel.town/event/social-dancing-20
GEO:52.4653224;-7.6990281
LOCATION:Fethard Ballroom - Kerry Street\, Fethard
STATUS:CONFIRMED
CATEGORIES:Live Music,Dance,Fee paid
END:VEVENT
BEGIN:VEVENT
UID:2348@calendar.clonmel.town
SUMMARY:Social Dancing
DTSTAMP:20260420T031748Z
DTSTART:20260614T193000Z
URL:https://calendar.clonmel.town/event/social-dancing-21
GEO:52.4653224;-7.6990281
LOCATION:Fethard Ballroom - Kerry Street\, Fethard
STATUS:CONFIRMED
CATEGORIES:Live Music,Fee paid,Dance
END:VEVENT
BEGIN:VEVENT
UID:2349@calendar.clonmel.town
SUMMARY:Social Dancing
DTSTAMP:20260420T031748Z
DTSTART:20260621T193000Z
URL:https://calendar.clonmel.town/event/social-dancing-22
GEO:52.4653224;-7.6990281
LOCATION:Fethard Ballroom - Kerry Street\, Fethard
STATUS:CONFIRMED
CATEGORIES:Dance,Fee paid,Live Music
END:VEVENT
BEGIN:VEVENT
UID:2350@calendar.clonmel.town
SUMMARY:Social Dancing
DTSTAMP:20260420T031748Z
DTSTART:20260628T193000Z
URL:https://calendar.clonmel.town/event/social-dancing-23
GEO:52.4653224;-7.6990281
LOCATION:Fethard Ballroom - Kerry Street\, Fethard
STATUS:CONFIRMED
CATEGORIES:Live Music,Dance,Fee paid
END:VEVENT
END:VCALENDAR
