BEGIN:VCALENDAR
VERSION:2.0
CALSCALE:GREGORIAN
PRODID:adamgibbons/ics
METHOD:PUBLISH
X-PUBLISHED-TTL:PT1H
BEGIN:VEVENT
UID:2358@calendar.clonmel.town
SUMMARY:Fethard Men's Shed
DTSTAMP:20260420T044352Z
DTSTART:20260421T090000Z
DTEND:20260421T110000Z
URL:https://calendar.clonmel.town/event/fethard-mens-shed-32
GEO:52.470117;-7.696237
LOCATION:Fethard Town Park - Rocklow Road\, Fethard
STATUS:CONFIRMED
CATEGORIES:Social,Crafts
END:VEVENT
BEGIN:VEVENT
UID:2357@calendar.clonmel.town
SUMMARY:Clonmel Craft Circle
DTSTAMP:20260420T044352Z
DTSTART:20260421T093000Z
DTEND:20260421T113000Z
URL:https://calendar.clonmel.town/event/clonmel-craft-circle-15
GEO:52.3550583;-7.6993383
LOCATION:Clonmel Library - Emmet Street
STATUS:CONFIRMED
CATEGORIES:Social,Crafts
END:VEVENT
BEGIN:VEVENT
UID:2208@calendar.clonmel.town
SUMMARY:Improvers Sewing Machine Skills
DTSTAMP:20260420T044352Z
DTSTART:20260422T180000Z
DTEND:20260422T200000Z
URL:https://calendar.clonmel.town/event/improvers-sewing-machine-skills-1
GEO:52.3517328;-7.7152932
LOCATION:The Circular Square - 80 Irishtown Upper
STATUS:CONFIRMED
CATEGORIES:Workshop,Crafts,Sustainability,Booking required
END:VEVENT
BEGIN:VEVENT
UID:2385@calendar.clonmel.town
SUMMARY:Fethard Men's Shed
DTSTAMP:20260420T044352Z
DTSTART:20260423T090000Z
DTEND:20260423T110000Z
URL:https://calendar.clonmel.town/event/fethard-mens-shed-33
GEO:52.470117;-7.696237
LOCATION:Fethard Town Park - Rocklow Road\, Fethard
STATUS:CONFIRMED
CATEGORIES:Social,Crafts
END:VEVENT
BEGIN:VEVENT
UID:2212@calendar.clonmel.town
SUMMARY:Clonmel Garden Club
DTSTAMP:20260420T044352Z
DTSTART:20260506T190000Z
URL:https://calendar.clonmel.town/event/clonmel-garden-club-2
GEO:52.3526515;-7.6861572
LOCATION:Minella Hotel - Coleville Road
STATUS:CONFIRMED
CATEGORIES:Crafts
END:VEVENT
BEGIN:VEVENT
UID:2204@calendar.clonmel.town
SUMMARY:Sew Social
DTSTAMP:20260420T044352Z
DTSTART:20260520T180000Z
DTEND:20260520T200000Z
URL:https://calendar.clonmel.town/event/sew-social-8
GEO:52.3517328;-7.7152932
LOCATION:The Circular Square - 80 Irishtown Upper
STATUS:CONFIRMED
CATEGORIES:Workshop,Crafts
END:VEVENT
END:VCALENDAR
