BEGIN:VCALENDAR
VERSION:2.0
CALSCALE:GREGORIAN
PRODID:adamgibbons/ics
METHOD:PUBLISH
X-PUBLISHED-TTL:PT1H
BEGIN:VEVENT
UID:2354@calendar.clonmel.town
SUMMARY:Ballroom Dancing Classes
DTSTAMP:20260419T203558Z
DTSTART:20260420T190000Z
URL:https://calendar.clonmel.town/event/ballroom-dancing-classes-11
GEO:52.4653224;-7.6990281
LOCATION:Fethard Ballroom - Kerry Street\, Fethard
STATUS:CONFIRMED
CATEGORIES:Class,Dance,Fee paid
END:VEVENT
BEGIN:VEVENT
UID:2366@calendar.clonmel.town
SUMMARY:Kid's Yoga & Mindfulness Classes
DTSTAMP:20260419T203558Z
DTSTART:20260421T144500Z
DTEND:20260421T154500Z
URL:https://calendar.clonmel.town/event/kids-yoga-and-mindfulness-classes-4
GEO:52.4118843;-7.7546887
LOCATION:Clerihan - Clerihan
STATUS:CONFIRMED
CATEGORIES:Children,Class,Fee paid
END:VEVENT
BEGIN:VEVENT
UID:2371@calendar.clonmel.town
SUMMARY:Bachata Dance
DTSTAMP:20260419T203558Z
DTSTART:20260421T191500Z
URL:https://calendar.clonmel.town/event/bachata-dance-30
GEO:52.3536113;-7.6979753
LOCATION:The Coachman - 13-14 Parnell Street
STATUS:CONFIRMED
CATEGORIES:Dance,Class
END:VEVENT
BEGIN:VEVENT
UID:2415@calendar.clonmel.town
SUMMARY:Tai Chi for Health
DTSTAMP:20260419T203558Z
DTSTART:20260422T180000Z
URL:https://calendar.clonmel.town/event/tai-chi-for-health
GEO:52.3549506;-7.7026152
LOCATION:Place4U - Morton Street
STATUS:CONFIRMED
CATEGORIES:Booking required,Class,Fee paid,Health
END:VEVENT
BEGIN:VEVENT
UID:2373@calendar.clonmel.town
SUMMARY:Dance with Gina
DTSTAMP:20260419T203558Z
DTSTART:20260422T180000Z
URL:https://calendar.clonmel.town/event/dance-with-gina-3
GEO:52.3536113;-7.6979753
LOCATION:The Coachman - 13-14 Parnell Street
STATUS:CONFIRMED
CATEGORIES:Class,Dance,Fee paid
END:VEVENT
BEGIN:VEVENT
UID:2375@calendar.clonmel.town
SUMMARY:Set Dancing Class
DTSTAMP:20260419T203558Z
DTSTART:20260422T181500Z
URL:https://calendar.clonmel.town/event/set-dancing-class-29
GEO:52.412811;-7.757627
LOCATION:Clerihan Community Hall - Cahir Road\, Clerihan
STATUS:CONFIRMED
CATEGORIES:Fee paid,Dance,Class
END:VEVENT
BEGIN:VEVENT
UID:2377@calendar.clonmel.town
SUMMARY:Salsa Cubana
DTSTAMP:20260419T203558Z
DTSTART:20260422T190000Z
URL:https://calendar.clonmel.town/event/salsa-cubana-28
GEO:52.3536113;-7.6979753
LOCATION:The Coachman - 13-14 Parnell Street
STATUS:CONFIRMED
CATEGORIES:Dance,Fee paid,Class
END:VEVENT
BEGIN:VEVENT
UID:2418@calendar.clonmel.town
SUMMARY:Chair Yoga & Meditation
DTSTAMP:20260419T203558Z
DTSTART:20260423T090000Z
URL:https://calendar.clonmel.town/event/chair-yoga-and-meditation-1
GEO:52.3633779;-7.5799391
LOCATION:Kilsheelan Kplan Community Centre - Chapel Road\, Kilsheelan
STATUS:CONFIRMED
CATEGORIES:Class,Fee paid
END:VEVENT
BEGIN:VEVENT
UID:2416@calendar.clonmel.town
SUMMARY:Chair Yoga & Meditation
DTSTAMP:20260419T203558Z
DTSTART:20260423T110000Z
URL:https://calendar.clonmel.town/event/chair-yoga-9
GEO:52.412811;-7.757627
LOCATION:Clerihan Community Hall - Cahir Road\, Clerihan
STATUS:CONFIRMED
CATEGORIES:Fee paid,Class
END:VEVENT
BEGIN:VEVENT
UID:2395@calendar.clonmel.town
SUMMARY:Set Dance Class
DTSTAMP:20260419T203558Z
DTSTART:20260424T093000Z
URL:https://calendar.clonmel.town/event/set-dance-class-30
GEO:52.3603507;-7.7194507
LOCATION:St. Oliver's Parish Centre - Heywood Road
STATUS:CONFIRMED
CATEGORIES:Class,Fee paid,Dance
END:VEVENT
END:VCALENDAR
