BEGIN:VCALENDAR
VERSION:2.0
CALSCALE:GREGORIAN
PRODID:adamgibbons/ics
METHOD:PUBLISH
X-PUBLISHED-TTL:PT1H
BEGIN:VEVENT
UID:2196@calendar.clonmel.town
SUMMARY:Peaks Mountaineering Club
DTSTAMP:20260419T203953Z
DTSTART:20260503T080000Z
URL:https://calendar.clonmel.town/event/peaks-mountaineering-club-18
GEO:52.3548139;-7.6969265
LOCATION:Eldon's - 12-13 Dillon Street
STATUS:CONFIRMED
CATEGORIES:Fee paid,Walk
END:VEVENT
END:VCALENDAR
