BEGIN:VCALENDAR
VERSION:2.0
CALSCALE:GREGORIAN
PRODID:adamgibbons/ics
METHOD:PUBLISH
X-PUBLISHED-TTL:PT1H
BEGIN:VEVENT
UID:2374@calendar.clonmel.town
SUMMARY:Ladies Darts
DTSTAMP:20260419T223434Z
DTSTART:20260422T190000Z
URL:https://calendar.clonmel.town/event/ladies-darts-4
GEO:52.354899;-7.7082233
LOCATION:37 Queen St - 37 Queen Street
STATUS:CONFIRMED
CATEGORIES:Fee paid
END:VEVENT
BEGIN:VEVENT
UID:2331@calendar.clonmel.town
SUMMARY:Canvas & Cocktails
DTSTAMP:20260419T223434Z
DTSTART:20260424T190000Z
URL:https://calendar.clonmel.town/event/canvas-and-cocktails-4
GEO:52.354899;-7.7082233
LOCATION:37 Queen St - 37 Queen Street
STATUS:CONFIRMED
CATEGORIES:Fee paid,Visual arts
END:VEVENT
BEGIN:VEVENT
UID:2250@calendar.clonmel.town
SUMMARY:Clonmel LGBTQI+ meetup
DTSTAMP:20260419T223434Z
DTSTART:20260507T190000Z
URL:https://calendar.clonmel.town/event/clonmel-lgbtqi-meetup-9
GEO:52.354899;-7.7082233
LOCATION:37 Queen St - 37 Queen Street
STATUS:CONFIRMED
CATEGORIES:Gender/LGBT,Social
END:VEVENT
END:VCALENDAR
