BEGIN:VCALENDAR
VERSION:2.0
CALSCALE:GREGORIAN
PRODID:adamgibbons/ics
METHOD:PUBLISH
X-PUBLISHED-TTL:PT1H
BEGIN:VEVENT
UID:2360@calendar.clonmel.town
SUMMARY:Clonmel Show
DTSTAMP:20260420T083614Z
DTSTART:20260705T090000Z
URL:https://calendar.clonmel.town/event/clonmel-show
GEO:52.3662542;-7.6801616
LOCATION:Clonmel Racecourse - Frank Drohan Road
STATUS:CONFIRMED
CATEGORIES:
END:VEVENT
END:VCALENDAR
