BEGIN:VCALENDAR
VERSION:2.0
CALSCALE:GREGORIAN
PRODID:adamgibbons/ics
METHOD:PUBLISH
X-PUBLISHED-TTL:PT1H
BEGIN:VEVENT
UID:2148@calendar.clonmel.town
SUMMARY:Belles & Strings: A Night of Stage & Screen
DTSTAMP:20260419T221204Z
DTSTART:20260529T183000Z
URL:https://calendar.clonmel.town/event/belles-and-strings-a-night-of-stage
	-and-screen
GEO:52.3541403;-7.70612
LOCATION:Old St. Mary's Church - Mary's Street
STATUS:CONFIRMED
CATEGORIES:Fee paid,Live Music
END:VEVENT
END:VCALENDAR
