BEGIN:VCALENDAR
VERSION:2.0
CALSCALE:GREGORIAN
PRODID:adamgibbons/ics
METHOD:PUBLISH
X-PUBLISHED-TTL:PT1H
BEGIN:VEVENT
UID:1981@calendar.clonmel.town
SUMMARY:The Dreamers
DTSTAMP:20260419T230227Z
DTSTART:20260425T203000Z
URL:https://calendar.clonmel.town/event/the-dreamers-6
GEO:52.3533157;-7.7003837
LOCATION:Bennigan's - 33-34 Mitchel Street
STATUS:CONFIRMED
CATEGORIES:Live Music
END:VEVENT
BEGIN:VEVENT
UID:1942@calendar.clonmel.town
SUMMARY:Double D
DTSTAMP:20260419T230227Z
DTSTART:20260509T200000Z
URL:https://calendar.clonmel.town/event/double-d-4
GEO:52.3533157;-7.7003837
LOCATION:Bennigan's - 33-34 Mitchel Street
STATUS:CONFIRMED
CATEGORIES:Live Music
END:VEVENT
END:VCALENDAR
