BEGIN:VCALENDAR
VERSION:2.0
CALSCALE:GREGORIAN
PRODID:adamgibbons/ics
METHOD:PUBLISH
X-PUBLISHED-TTL:PT1H
BEGIN:VEVENT
UID:2351@calendar.clonmel.town
SUMMARY:Table Quiz
DTSTAMP:20260419T204014Z
DTSTART:20260423T193000Z
URL:https://calendar.clonmel.town/event/table-quiz-4
GEO:52.3554757;-7.7030097
LOCATION:Moynihan's - 4 Upper Gladstone Street
STATUS:CONFIRMED
CATEGORIES:Fee paid,Solidarity
END:VEVENT
BEGIN:VEVENT
UID:2328@calendar.clonmel.town
SUMMARY:Second Sunday Steady Session
DTSTAMP:20260419T204014Z
DTSTART:20260510T173000Z
DTEND:20260510T193000Z
URL:https://calendar.clonmel.town/event/second-sunday-steady-session-9
GEO:52.3554757;-7.7030097
LOCATION:Moynihan's - 4 Upper Gladstone Street
STATUS:CONFIRMED
CATEGORIES:Session
END:VEVENT
BEGIN:VEVENT
UID:2277@calendar.clonmel.town
SUMMARY:Dirk Powell and Amelia Powell
DTSTAMP:20260419T204014Z
DTSTART:20260604T190000Z
URL:https://calendar.clonmel.town/event/dirk-powell-and-amelia-powell
GEO:52.3554757;-7.7030097
LOCATION:Moynihan's - 4 Upper Gladstone Street
STATUS:CONFIRMED
CATEGORIES:Live Music,Fee paid
END:VEVENT
BEGIN:VEVENT
UID:2278@calendar.clonmel.town
SUMMARY:The Wood of O
DTSTAMP:20260419T204014Z
DTSTART:20260612T183000Z
URL:https://calendar.clonmel.town/event/the-wood-of-o
GEO:52.3554757;-7.7030097
LOCATION:Moynihan's - 4 Upper Gladstone Street
STATUS:CONFIRMED
CATEGORIES:Fee paid,Live Music
END:VEVENT
END:VCALENDAR
