BEGIN:VCALENDAR
VERSION:2.0
CALSCALE:GREGORIAN
PRODID:adamgibbons/ics
METHOD:PUBLISH
X-PUBLISHED-TTL:PT1H
BEGIN:VEVENT
UID:2355@calendar.clonmel.town
SUMMARY:Gleeson's Open Jam
DTSTAMP:20260419T204029Z
DTSTART:20260420T200000Z
URL:https://calendar.clonmel.town/event/gleesons-open-jam-34
GEO:52.3522097;-7.7061925
LOCATION:Gleeson's - 5 Irishtown
STATUS:CONFIRMED
CATEGORIES:Session,Favourite
END:VEVENT
BEGIN:VEVENT
UID:2096@calendar.clonmel.town
SUMMARY:Platform 5
DTSTAMP:20260419T204029Z
DTSTART:20260421T200000Z
URL:https://calendar.clonmel.town/event/platform-5-2
GEO:52.3522097;-7.7061925
LOCATION:Gleeson's - 5 Irishtown
STATUS:CONFIRMED
CATEGORIES:Live Music
END:VEVENT
BEGIN:VEVENT
UID:2392@calendar.clonmel.town
SUMMARY:DJ Lorcan Ryan
DTSTAMP:20260419T204029Z
DTSTART:20260423T193000Z
URL:https://calendar.clonmel.town/event/thirsty-thursday-34
GEO:52.3522097;-7.7061925
LOCATION:Gleeson's - 5 Irishtown
STATUS:CONFIRMED
CATEGORIES:DJ
END:VEVENT
BEGIN:VEVENT
UID:2406@calendar.clonmel.town
SUMMARY:Lorraine & Caoimhe
DTSTAMP:20260419T204029Z
DTSTART:20260424T203000Z
URL:https://calendar.clonmel.town/event/lorraine-and-caoimhe-11
GEO:52.3522097;-7.7061925
LOCATION:Gleeson's - 5 Irishtown
STATUS:CONFIRMED
CATEGORIES:Live Music
END:VEVENT
BEGIN:VEVENT
UID:2407@calendar.clonmel.town
SUMMARY:Ciarán O'Gorman
DTSTAMP:20260419T204029Z
DTSTART:20260425T203000Z
URL:https://calendar.clonmel.town/event/ciaran-ogorman-7
GEO:52.3522097;-7.7061925
LOCATION:Gleeson's - 5 Irishtown
STATUS:CONFIRMED
CATEGORIES:Live Music
END:VEVENT
BEGIN:VEVENT
UID:2396@calendar.clonmel.town
SUMMARY:EJ Mae
DTSTAMP:20260419T204029Z
DTSTART:20260426T180000Z
URL:https://calendar.clonmel.town/event/ej-mae
GEO:52.3522097;-7.7061925
LOCATION:Gleeson's - 5 Irishtown
STATUS:CONFIRMED
CATEGORIES:Live Music
END:VEVENT
BEGIN:VEVENT
UID:2411@calendar.clonmel.town
SUMMARY:Sunday Tunes
DTSTAMP:20260419T204029Z
DTSTART:20260503T193000Z
URL:https://calendar.clonmel.town/event/sunday-tunes-17
GEO:52.3522097;-7.7061925
LOCATION:Gleeson's - 5 Irishtown
STATUS:CONFIRMED
CATEGORIES:DJ
END:VEVENT
BEGIN:VEVENT
UID:2097@calendar.clonmel.town
SUMMARY:Platform 5
DTSTAMP:20260419T204029Z
DTSTART:20260519T200000Z
URL:https://calendar.clonmel.town/event/platform-5-3
GEO:52.3522097;-7.7061925
LOCATION:Gleeson's - 5 Irishtown
STATUS:CONFIRMED
CATEGORIES:Live Music
END:VEVENT
END:VCALENDAR
