BEGIN:VCALENDAR
VERSION:2.0
CALSCALE:GREGORIAN
PRODID:adamgibbons/ics
METHOD:PUBLISH
X-PUBLISHED-TTL:PT1H
BEGIN:VEVENT
UID:2330@calendar.clonmel.town
SUMMARY:Shredder's Sit Down Sessions
DTSTAMP:20260419T204930Z
DTSTART:20260419T190000Z
DTEND:20260419T210000Z
URL:https://calendar.clonmel.town/event/shredders-sit-down-sessions-16
GEO:52.3522485;-7.7049322
LOCATION:Lonergan's - 35 O'Connell Street
STATUS:CONFIRMED
CATEGORIES:Session
END:VEVENT
BEGIN:VEVENT
UID:2370@calendar.clonmel.town
SUMMARY:Trivia Tuesday
DTSTAMP:20260419T204930Z
DTSTART:20260421T190000Z
URL:https://calendar.clonmel.town/event/trivia-tuesday-10
GEO:52.3522485;-7.7049322
LOCATION:Lonergan's - 35 O'Connell Street
STATUS:CONFIRMED
CATEGORIES:
END:VEVENT
BEGIN:VEVENT
UID:2378@calendar.clonmel.town
SUMMARY:Karaoke Night
DTSTAMP:20260419T204930Z
DTSTART:20260422T190000Z
URL:https://calendar.clonmel.town/event/karaoke-night-36
GEO:52.3522485;-7.7049322
LOCATION:Lonergan's - 35 O'Connell Street
STATUS:CONFIRMED
CATEGORIES:
END:VEVENT
BEGIN:VEVENT
UID:2394@calendar.clonmel.town
SUMMARY:Open Mic with Dave Hastie
DTSTAMP:20260419T204930Z
DTSTART:20260423T200000Z
URL:https://calendar.clonmel.town/event/open-mic-with-dave-hastie-34
GEO:52.3522485;-7.7049322
LOCATION:Lonergan's - 35 O'Connell Street
STATUS:CONFIRMED
CATEGORIES:Favourite,Live Music
END:VEVENT
BEGIN:VEVENT
UID:2420@calendar.clonmel.town
SUMMARY:Eoin Barrett plus One
DTSTAMP:20260419T204930Z
DTSTART:20260424T203000Z
URL:https://calendar.clonmel.town/event/eoin-barrett-plus-one
GEO:52.3522485;-7.7049322
LOCATION:Lonergan's - 35 O'Connell Street
STATUS:CONFIRMED
CATEGORIES:Live Music
END:VEVENT
BEGIN:VEVENT
UID:2421@calendar.clonmel.town
SUMMARY:Tantrum Band
DTSTAMP:20260419T204930Z
DTSTART:20260425T203000Z
URL:https://calendar.clonmel.town/event/tantrum-band-4
GEO:52.3522485;-7.7049322
LOCATION:Lonergan's - 35 O'Connell Street
STATUS:CONFIRMED
CATEGORIES:Live Music
END:VEVENT
END:VCALENDAR
