BEGIN:VCALENDAR
VERSION:2.0
CALSCALE:GREGORIAN
PRODID:adamgibbons/ics
METHOD:PUBLISH
X-PUBLISHED-TTL:PT1H
BEGIN:VEVENT
UID:2401@calendar.clonmel.town
SUMMARY:Farmers Market
DTSTAMP:20260419T230935Z
DTSTART:20260425T083000Z
DTEND:20260425T130000Z
URL:https://calendar.clonmel.town/event/farmers-market-34
GEO:52.3567575;-7.7004696
LOCATION:St. Peter & Paul CBS - Kickham Street
STATUS:CONFIRMED
CATEGORIES:Market
END:VEVENT
END:VCALENDAR
