BEGIN:VCALENDAR
VERSION:2.0
CALSCALE:GREGORIAN
PRODID:adamgibbons/ics
METHOD:PUBLISH
X-PUBLISHED-TTL:PT1H
BEGIN:VEVENT
UID:2235@calendar.clonmel.town
SUMMARY:Benedictine Quartet
DTSTAMP:20260419T204147Z
DTSTART:20260506T190000Z
URL:https://calendar.clonmel.town/event/benedictine-quartet-9
GEO:52.3535853;-7.6981508
LOCATION:Phil Carroll's - 16 Parnell Street
STATUS:CONFIRMED
CATEGORIES:Favourite,Live Music
END:VEVENT
END:VCALENDAR
