BEGIN:VCALENDAR
VERSION:2.0
CALSCALE:GREGORIAN
PRODID:adamgibbons/ics
METHOD:PUBLISH
X-PUBLISHED-TTL:PT1H
BEGIN:VEVENT
UID:2400@calendar.clonmel.town
SUMMARY:Fred's Session
DTSTAMP:20260419T204138Z
DTSTART:20260424T200000Z
URL:https://calendar.clonmel.town/event/freds-session-34
GEO:52.3545417;-7.6937778
LOCATION:Fozzy's - Davis Road
STATUS:CONFIRMED
CATEGORIES:Favourite,Session
END:VEVENT
END:VCALENDAR
