BEGIN:VCALENDAR
VERSION:2.0
CALSCALE:GREGORIAN
PRODID:adamgibbons/ics
METHOD:PUBLISH
X-PUBLISHED-TTL:PT1H
BEGIN:VEVENT
UID:2161@calendar.clonmel.town
SUMMARY:Clonmel Toastmasters
DTSTAMP:20260419T203954Z
DTSTART:20260423T190000Z
URL:https://calendar.clonmel.town/event/clonmel-toastmasters-13
GEO:52.3564447;-7.7382776
LOCATION:Talbot Hotel - Cahir Road
STATUS:CONFIRMED
CATEGORIES:
END:VEVENT
BEGIN:VEVENT
UID:2231@calendar.clonmel.town
SUMMARY:South Tipperary Women in Business
DTSTAMP:20260419T203954Z
DTSTART:20260506T173000Z
DTEND:20260506T193000Z
URL:https://calendar.clonmel.town/event/south-tipperary-women-in-business-2
GEO:52.3564447;-7.7382776
LOCATION:Talbot Hotel - Cahir Road
STATUS:CONFIRMED
CATEGORIES:Fee paid,Talk
END:VEVENT
BEGIN:VEVENT
UID:2141@calendar.clonmel.town
SUMMARY:Rhythm of my Heart [CANCELLED]
DTSTAMP:20260419T203954Z
DTSTART:20260508T190000Z
URL:https://calendar.clonmel.town/event/rhythm-of-my-heart
GEO:52.3564447;-7.7382776
LOCATION:Talbot Hotel - Cahir Road
STATUS:CONFIRMED
CATEGORIES:Fee paid,Live Music
END:VEVENT
BEGIN:VEVENT
UID:2308@calendar.clonmel.town
SUMMARY:Clonmel Toastmasters
DTSTAMP:20260419T203954Z
DTSTART:20260514T190000Z
DTEND:20260514T210000Z
URL:https://calendar.clonmel.town/event/clonmel-toastmasters-14
GEO:52.3564447;-7.7382776
LOCATION:Talbot Hotel - Cahir Road
STATUS:CONFIRMED
CATEGORIES:
END:VEVENT
BEGIN:VEVENT
UID:2142@calendar.clonmel.town
SUMMARY:Onóir
DTSTAMP:20260419T203954Z
DTSTART:20260530T190000Z
URL:https://calendar.clonmel.town/event/onoir
GEO:52.3564447;-7.7382776
LOCATION:Talbot Hotel - Cahir Road
STATUS:CONFIRMED
CATEGORIES:Live Music,Fee paid
END:VEVENT
BEGIN:VEVENT
UID:2145@calendar.clonmel.town
SUMMARY:Rebecca Storm
DTSTAMP:20260419T203954Z
DTSTART:20260604T190000Z
URL:https://calendar.clonmel.town/event/rebecca-storm
GEO:52.3564447;-7.7382776
LOCATION:Talbot Hotel - Cahir Road
STATUS:CONFIRMED
CATEGORIES:Live Music,Fee paid
END:VEVENT
BEGIN:VEVENT
UID:2146@calendar.clonmel.town
SUMMARY:One More Time
DTSTAMP:20260419T203954Z
DTSTART:20260620T180000Z
URL:https://calendar.clonmel.town/event/one-more-time-2
GEO:52.3564447;-7.7382776
LOCATION:Talbot Hotel - Cahir Road
STATUS:CONFIRMED
CATEGORIES:Fee paid,DJ
END:VEVENT
BEGIN:VEVENT
UID:2147@calendar.clonmel.town
SUMMARY:Derek Warfield & The Young Wolfe Tones
DTSTAMP:20260419T203954Z
DTSTART:20260725T190000Z
URL:https://calendar.clonmel.town/event/derek-warfield-and-the-young-wolfe-
	tones-1
GEO:52.3564447;-7.7382776
LOCATION:Talbot Hotel - Cahir Road
STATUS:CONFIRMED
CATEGORIES:Live Music,Fee paid
END:VEVENT
BEGIN:VEVENT
UID:2365@calendar.clonmel.town
SUMMARY:Derek Warfield & The Young Wolfe Tones
DTSTAMP:20260419T203954Z
DTSTART:20260725T190000Z
URL:https://calendar.clonmel.town/event/derek-warfield-and-the-young-wolfe-
	tones-2
GEO:52.3564447;-7.7382776
LOCATION:Talbot Hotel - Cahir Road
STATUS:CONFIRMED
CATEGORIES:Fee paid,Live Music
END:VEVENT
BEGIN:VEVENT
UID:2190@calendar.clonmel.town
SUMMARY:Country Startime
DTSTAMP:20260419T203954Z
DTSTART:20260922T190000Z
URL:https://calendar.clonmel.town/event/country-startime
GEO:52.3564447;-7.7382776
LOCATION:Talbot Hotel - Cahir Road
STATUS:CONFIRMED
CATEGORIES:Fee paid,Live Music
END:VEVENT
END:VCALENDAR
