BEGIN:VCALENDAR
VERSION:2.0
CALSCALE:GREGORIAN
PRODID:adamgibbons/ics
METHOD:PUBLISH
X-PUBLISHED-TTL:PT1H
BEGIN:VEVENT
UID:2352@calendar.clonmel.town
SUMMARY:Ryans and Friends
DTSTAMP:20260419T192742Z
DTSTART:20260420T200000Z
URL:https://calendar.clonmel.town/event/ryans-and-friends-37
GEO:52.3535504;-7.6982851
LOCATION:Baker's - 17 Parnell Street
STATUS:CONFIRMED
CATEGORIES:Favourite,Session
END:VEVENT
END:VCALENDAR
