BEGIN:VCALENDAR
VERSION:2.0
CALSCALE:GREGORIAN
PRODID:adamgibbons/ics
METHOD:PUBLISH
X-PUBLISHED-TTL:PT1H
BEGIN:VEVENT
UID:2422@calendar.clonmel.town
SUMMARY:Shredder's Sit Down Sessions
DTSTAMP:20260420T014426Z
DTSTART:20260426T193000Z
DESCRIPTION:A relaxing evening of music with Louis & Derek\, bring your ins
	truments!
URL:https://calendar.clonmel.town/event/shredders-sit-down-sessions-17
GEO:52.3522485;-7.7049322
LOCATION:Lonergan's - 35 O'Connell Street
STATUS:CONFIRMED
CATEGORIES:Session
X-ALT-DESC;FMTTYPE=text/html:<p>A relaxing evening of music with Louis &amp
	; Derek, bring your instruments!</p>
BEGIN:VALARM
ACTION:DISPLAY
DESCRIPTION:Shredder's Sit Down Sessions
TRIGGER:-PT1H
END:VALARM
END:VEVENT
END:VCALENDAR
