BEGIN:VCALENDAR
VERSION:2.0
CALSCALE:GREGORIAN
PRODID:adamgibbons/ics
METHOD:PUBLISH
X-PUBLISHED-TTL:PT1H
BEGIN:VEVENT
UID:2456@calendar.clonmel.town
SUMMARY:Set Dance Class
DTSTAMP:20260424T163433Z
DTSTART:20260501T093000Z
DESCRIPTION:> Set\, céilí\, line\, and social dancing\; beginners welcomed\
	n\n€10 per class\, pay on the day.\n\nWelcome to join anytime.
URL:https://calendar.clonmel.town/event/set-dance-class-31
GEO:52.3603507;-7.7194507
LOCATION:St. Oliver's Parish Centre - Heywood Road
STATUS:CONFIRMED
CATEGORIES:Class,Dance,Fee paid
X-ALT-DESC;FMTTYPE=text/html:<blockquote><p>Set, céilí, line, and social da
	ncing; beginners welcomed</p></blockquote><p>€10 per class, pay on the day
	.</p><p>Welcome to join anytime.</p>
BEGIN:VALARM
ACTION:DISPLAY
DESCRIPTION:Set Dance Class
TRIGGER:-PT1H
END:VALARM
END:VEVENT
END:VCALENDAR
