BEGIN:VCALENDAR
VERSION:2.0
CALSCALE:GREGORIAN
PRODID:adamgibbons/ics
METHOD:PUBLISH
X-PUBLISHED-TTL:PT1H
BEGIN:VEVENT
UID:2442@calendar.clonmel.town
SUMMARY:Salsa Cubana
DTSTAMP:20260423T005924Z
DTSTART:20260429T190000Z
DESCRIPTION:> Class for beginners
URL:https://calendar.clonmel.town/event/salsa-cubana-29
GEO:52.3536113;-7.6979753
LOCATION:The Coachman - 13-14 Parnell Street
STATUS:CONFIRMED
CATEGORIES:Class,Dance,Fee paid
X-ALT-DESC;FMTTYPE=text/html:<blockquote><p>Class for beginners</p></blockq
	uote>
BEGIN:VALARM
ACTION:DISPLAY
DESCRIPTION:Salsa Cubana
TRIGGER:-PT1H
END:VALARM
END:VEVENT
END:VCALENDAR
