BEGIN:VCALENDAR
VERSION:2.0
CALSCALE:GREGORIAN
PRODID:adamgibbons/ics
METHOD:PUBLISH
X-PUBLISHED-TTL:PT1H
BEGIN:VEVENT
UID:2461@calendar.clonmel.town
SUMMARY:Repair Café
DTSTAMP:20260425T203322Z
DTSTART:20260530T103000Z
DTEND:20260530T123000Z
DESCRIPTION:> We do our best to fix your broken items
URL:https://calendar.clonmel.town/event/repair-cafe-9
GEO:52.3517328;-7.7152932
LOCATION:The Circular Square - 80 Irishtown Upper
STATUS:CONFIRMED
CATEGORIES:Sustainability
X-ALT-DESC;FMTTYPE=text/html:<blockquote><p>We do our best to fix your brok
	en items</p></blockquote>
BEGIN:VALARM
ACTION:DISPLAY
DESCRIPTION:Repair Café
TRIGGER:-PT1H
END:VALARM
END:VEVENT
END:VCALENDAR
