BEGIN:VCALENDAR
VERSION:2.0
CALSCALE:GREGORIAN
PRODID:adamgibbons/ics
METHOD:PUBLISH
X-PUBLISHED-TTL:PT1H
BEGIN:VEVENT
UID:2406@calendar.clonmel.town
SUMMARY:Lorraine & Caoimhe
DTSTAMP:20260419T184434Z
DTSTART:20260424T203000Z
DESCRIPTION:Contemporary Irish Folk/Trad
URL:https://calendar.clonmel.town/event/lorraine-and-caoimhe-11
GEO:52.3522097;-7.7061925
LOCATION:Gleeson's - 5 Irishtown
STATUS:CONFIRMED
CATEGORIES:Live Music
X-ALT-DESC;FMTTYPE=text/html:<p>Contemporary Irish Folk/Trad</p>
BEGIN:VALARM
ACTION:DISPLAY
DESCRIPTION:Lorraine & Caoimhe
TRIGGER:-PT1H
END:VALARM
END:VEVENT
END:VCALENDAR
