BEGIN:VCALENDAR
VERSION:2.0
CALSCALE:GREGORIAN
PRODID:adamgibbons/ics
METHOD:PUBLISH
X-PUBLISHED-TTL:PT1H
BEGIN:VEVENT
UID:2428@calendar.clonmel.town
SUMMARY:Horticulture Workshops
DTSTAMP:20260421T170034Z
DTSTART:20260519T093000Z
DTEND:20260519T113000Z
DESCRIPTION:8-week course
URL:https://calendar.clonmel.town/event/horticulture-workshops
GEO:52.353498;-7.71936
LOCATION:Glenconnor Community Mental Health Centre - Saint Luke's Hospital 
	Campus\, Western Road\, Clonmel
STATUS:CONFIRMED
CATEGORIES:Course,Workshop
X-ALT-DESC;FMTTYPE=text/html:<p>8-week course</p>
BEGIN:VALARM
ACTION:DISPLAY
DESCRIPTION:Horticulture Workshops
TRIGGER:-PT1H
END:VALARM
END:VEVENT
END:VCALENDAR
