BEGIN:VCALENDAR
VERSION:2.0
CALSCALE:GREGORIAN
PRODID:adamgibbons/ics
METHOD:PUBLISH
X-PUBLISHED-TTL:PT1H
BEGIN:VEVENT
UID:2432@calendar.clonmel.town
SUMMARY:The Garth Brooks Experience
DTSTAMP:20260421T194310Z
DTSTART:20260503T210000Z
DESCRIPTION:Live music
URL:https://calendar.clonmel.town/event/garth-brooks-experience
GEO:52.348856;-7.7044923
LOCATION:The Emigrant's Rest - Raheen Road
STATUS:CONFIRMED
CATEGORIES:Live Music
X-ALT-DESC;FMTTYPE=text/html:<p>Live music</p>
BEGIN:VALARM
ACTION:DISPLAY
DESCRIPTION:The Garth Brooks Experience
TRIGGER:-PT1H
END:VALARM
END:VEVENT
END:VCALENDAR
