BEGIN:VCALENDAR
VERSION:2.0
CALSCALE:GREGORIAN
PRODID:adamgibbons/ics
METHOD:PUBLISH
X-PUBLISHED-TTL:PT1H
BEGIN:VEVENT
UID:2437@calendar.clonmel.town
SUMMARY:Curator Lunchtime Talks
DTSTAMP:20260422T231012Z
DTSTART:20260502T120000Z
DESCRIPTION:> A lunchtime tour of STAC at 30 with curator Helena Tobin\n\nJ
	oin curator and Artistic Director of STAC\, Helena Tobin\, for a free\, pu
	blic\nwalk-through of our latest exhibition\, STAC at 30\, featuring work 
	by some of the\nbest-known artists including Alice Maher\, Aideen Barry\, 
	John Burke\, Patricia\nHurl\, Austin McQuinn\, Ursula Burke\, Sheenagh Geo
	ghegan and Bridget O’Gorman.
URL:https://calendar.clonmel.town/event/curator-lunchtime-talks
GEO:52.3530671;-7.6987137
LOCATION:STAC - Nelson Street
STATUS:CONFIRMED
CATEGORIES:Exhibition,Visual arts
X-ALT-DESC;FMTTYPE=text/html:<blockquote><p>A lunchtime&nbsp;tour of <em>ST
	AC at 30</em>&nbsp;with curator Helena Tobin</p></blockquote><p>Join curat
	or and Artistic Director of STAC, Helena Tobin, for a free, public walk-th
	rough of our latest exhibition, <em>STAC at 30</em>, featuring work by&nbs
	p;some of the best-known artists including Alice Maher, Aideen Barry, John
	 Burke, Patricia Hurl, Austin McQuinn, Ursula Burke, Sheenagh Geoghegan an
	d Bridget O’Gorman.</p>
BEGIN:VALARM
ACTION:DISPLAY
DESCRIPTION:Curator Lunchtime Talks
TRIGGER:-PT1H
END:VALARM
END:VEVENT
END:VCALENDAR
