BEGIN:VCALENDAR
VERSION:2.0
CALSCALE:GREGORIAN
PRODID:adamgibbons/ics
METHOD:PUBLISH
X-PUBLISHED-TTL:PT1H
BEGIN:VEVENT
UID:2419@calendar.clonmel.town
SUMMARY:By the Bog of Cats
DTSTAMP:20260419T223634Z
DTSTART:20260502T190000Z
DESCRIPTION:Play by Marina Carr with Fionn MacCumhaill Players
URL:https://calendar.clonmel.town/event/by-the-bog-of-cats
GEO:52.465824;-7.6905108
LOCATION:Abymill Theatre - Abbeyville\, Fethard
STATUS:CONFIRMED
CATEGORIES:Fee paid,Theatre
X-ALT-DESC;FMTTYPE=text/html:<p>Play by Marina Carr with Fionn MacCumhaill 
	Players</p>
BEGIN:VALARM
ACTION:DISPLAY
DESCRIPTION:By the Bog of Cats
TRIGGER:-PT1H
END:VALARM
END:VEVENT
END:VCALENDAR
